BEGIN:VCALENDAR
VERSION:2.0
PRODID:-//Wabash County Solid Waste Management District - ECPv6.9.0//NONSGML v1.0//EN
CALSCALE:GREGORIAN
METHOD:PUBLISH
X-WR-CALNAME:Wabash County Solid Waste Management District
X-ORIGINAL-URL:https://www.slashthetrash.com
X-WR-CALDESC:Events for Wabash County Solid Waste Management District
REFRESH-INTERVAL;VALUE=DURATION:PT1H
X-Robots-Tag:noindex
X-PUBLISHED-TTL:PT1H
BEGIN:VTIMEZONE
TZID:UTC
BEGIN:STANDARD
TZOFFSETFROM:+0000
TZOFFSETTO:+0000
TZNAME:UTC
DTSTART:20260101T000000
END:STANDARD
END:VTIMEZONE
BEGIN:VEVENT
DTSTART;TZID=UTC:20260328T100000
DTEND;TZID=UTC:20260328T120000
DTSTAMP:20260423T220521
CREATED:20260303T151743Z
LAST-MODIFIED:20260303T151743Z
UID:1010-1774692000-1774699200@www.slashthetrash.com
SUMMARY:Rain Barrel Workshop 2026
DESCRIPTION:Attention Wabash County Residents\nThe Annual Rain Barrel Workshop is upon us!\nJoin us at the Solid Waste District offices on Saturday\, March 28th\, 2026\, from 10AM-12PM to learn about the benefits of rain barrels\, and walk away with a fully assembled barrel and the knowledge necessary to maintain it!\nThere are limited spots available for this workshop. Registration ends Friday\, March 20th\, 2026.\nIn partnership with the Wabash River Defenders (WRD)\, your household’s first rain barrel will cost $15.00 thanks to an IDEM 319(h) grant the WRD hold; additional barrels are $65.00 each.\n\n\nThis is a hands-on educational event hosted by the Solid Waste District. To register\, call 260-563-7649\, email reception@slashthetrash.com\, or message us on Facebook!
URL:https://www.slashthetrash.com/event/rain-barrel-workshop-2026/
END:VEVENT
BEGIN:VEVENT
DTSTART;VALUE=DATE:20260318
DTEND;VALUE=DATE:20260319
DTSTAMP:20260423T220521
CREATED:20260303T152141Z
LAST-MODIFIED:20260317T174344Z
UID:1012-1773792000-1773878399@www.slashthetrash.com
SUMMARY:The Great March Clean Up 2026!
DESCRIPTION:WCSWMD office and warehouse will be closed on Wednesday March 18th as we tackle roadside litter in the county! Drop site recycling will remain open for regular hours.\n\nWant to help tackle roadside litter across Wabash County? Awesome! Volunteer this March for the Great March Cleanup. It’s simple!\n\n\n\n  Complete this Google Form https://bit.ly/4t8JlvT \n\nIf you do not have a team\, we will connect you with a volunteer team in your community. We have teams stationed in every town/city in the county!\n\n\n\n\nSpecial thanks to Republic Services for their sponsorship of this event\, and a shout out to our partnership with Destination Wabash County for bringing this event to life!\nIf you’d like to join the District’s team\, call us at 260-562-7649!
URL:https://www.slashthetrash.com/event/the-great-march-clean-up-2026/
END:VEVENT
END:VCALENDAR