BEGIN:VCALENDAR
VERSION:2.0
PRODID:-//Wabash County Solid Waste Management District - ECPv6.9.0//NONSGML v1.0//EN
CALSCALE:GREGORIAN
METHOD:PUBLISH
X-ORIGINAL-URL:https://www.slashthetrash.com
X-WR-CALDESC:Events for Wabash County Solid Waste Management District
REFRESH-INTERVAL;VALUE=DURATION:PT1H
X-Robots-Tag:noindex
X-PUBLISHED-TTL:PT1H
BEGIN:VTIMEZONE
TZID:UTC
BEGIN:STANDARD
TZOFFSETFROM:+0000
TZOFFSETTO:+0000
TZNAME:UTC
DTSTART:20260101T000000
END:STANDARD
END:VTIMEZONE
BEGIN:VEVENT
DTSTART;TZID=UTC:20260401T080000
DTEND;TZID=UTC:20260430T170000
DTSTAMP:20260423T201806
CREATED:20260303T152626Z
LAST-MODIFIED:20260303T152626Z
UID:1014-1775030400-1777568400@www.slashthetrash.com
SUMMARY:Master Recycler's Class 2026
DESCRIPTION:Calling all Wabash County residents!\nHave you ever wondered about the Solid Waste District and how the recycling industry works? Good news! The Solid Waste District is set to host its first ever Master Recycler Course!!\nThis FREE\, 4 class course is an in depth view on the world of recycling\, both locally and nationally\, and the best waste management practices.\nWe will meet every Thursday in April from 4:30-5:30 PM. (location will be shared by your educator after registration)\n-Must be 18 or older.\n-Must attend all 4 classes to graduate with certificate (April 30th there will be a graduation ceremony\, and you get a certificate too!)\n– Limited spots available! Registration deadline is Friday\, March 20th\nTo register you may stop in the office\, call 260-563-7639\, email reception@slashthetrash.com\, or even reach out through Facebook Messenger!
URL:https://www.slashthetrash.com/event/master-recyclers-class-2026/
END:VEVENT
END:VCALENDAR